BEGIN:VCALENDAR
VERSION:2.0
PRODID:-//Rockford Springs Orthodox Presbyterian - ECPv6.15.20//NONSGML v1.0//EN
CALSCALE:GREGORIAN
METHOD:PUBLISH
X-ORIGINAL-URL:https://rockfordsprings.org
X-WR-CALDESC:Events for Rockford Springs Orthodox Presbyterian
REFRESH-INTERVAL;VALUE=DURATION:PT1H
X-Robots-Tag:noindex
X-PUBLISHED-TTL:PT1H
BEGIN:VTIMEZONE
TZID:America/Detroit
BEGIN:DAYLIGHT
TZOFFSETFROM:-0500
TZOFFSETTO:-0400
TZNAME:EDT
DTSTART:20160313T070000
END:DAYLIGHT
BEGIN:STANDARD
TZOFFSETFROM:-0400
TZOFFSETTO:-0500
TZNAME:EST
DTSTART:20161106T060000
END:STANDARD
BEGIN:DAYLIGHT
TZOFFSETFROM:-0500
TZOFFSETTO:-0400
TZNAME:EDT
DTSTART:20170312T070000
END:DAYLIGHT
BEGIN:STANDARD
TZOFFSETFROM:-0400
TZOFFSETTO:-0500
TZNAME:EST
DTSTART:20171105T060000
END:STANDARD
BEGIN:DAYLIGHT
TZOFFSETFROM:-0500
TZOFFSETTO:-0400
TZNAME:EDT
DTSTART:20180311T070000
END:DAYLIGHT
BEGIN:STANDARD
TZOFFSETFROM:-0400
TZOFFSETTO:-0500
TZNAME:EST
DTSTART:20181104T060000
END:STANDARD
BEGIN:DAYLIGHT
TZOFFSETFROM:-0500
TZOFFSETTO:-0400
TZNAME:EDT
DTSTART:20190310T070000
END:DAYLIGHT
BEGIN:STANDARD
TZOFFSETFROM:-0400
TZOFFSETTO:-0500
TZNAME:EST
DTSTART:20191103T060000
END:STANDARD
BEGIN:DAYLIGHT
TZOFFSETFROM:-0500
TZOFFSETTO:-0400
TZNAME:EDT
DTSTART:20200308T070000
END:DAYLIGHT
BEGIN:STANDARD
TZOFFSETFROM:-0400
TZOFFSETTO:-0500
TZNAME:EST
DTSTART:20201101T060000
END:STANDARD
BEGIN:DAYLIGHT
TZOFFSETFROM:-0500
TZOFFSETTO:-0400
TZNAME:EDT
DTSTART:20210314T070000
END:DAYLIGHT
BEGIN:STANDARD
TZOFFSETFROM:-0400
TZOFFSETTO:-0500
TZNAME:EST
DTSTART:20211107T060000
END:STANDARD
END:VTIMEZONE
BEGIN:VEVENT
DTSTART;TZID=America/Detroit:20201228T104500
DTEND;TZID=America/Detroit:20201228T120000
DTSTAMP:20260419T124545
CREATED:20201228T140716Z
LAST-MODIFIED:20201228T142748Z
UID:3333-1609152300-1609156800@rockfordsprings.org
SUMMARY:Jack VanSetters Funeral
DESCRIPTION:Link for Service is below: \nhttps://youtu.be/MJLUZ9E6ybY \n  \n  \nVan Setters – Jack Edward Van Setters\, age 92\, went to heaven to be with his Lord on Monday\, December 14\, 2020.  He was a wonderful husband to Luci for 71 years and 4 months.  Jack and Luci have 4 children:  Jane (Chuck)\, Jim (Rebecca)\, Beth (Bob)\, and Dave (Sue); 27 grandchildren\, 27 great grandchildren\, and 1 great great grandchild with 1 on the way.  Jack was a friend to many and loved Jesus.  He served in the Marine Corps during WW II.  He enjoyed woodworking and made many beautiful pieces\, but Jack’s main love was fishing.  He could sit for hours and tell stories about Sugar Island.   In remembering Jack’s life\, we are comforted by John 5:24 “Very truly I tell you\, whoever hears my word and believes Him who sent Me has eternal life and will not be judged but has crossed over from death to life.” \nPrivate funeral services will be held due to Covid restrictions.  The service will be livestreamed on Monday morning December 28\, 2020 at 11:00 AM.  Please visit www.rockfordsprings.org and scroll down to the Jack Van Setters Funeral banner to watch the funeral service.  At the conclusion of the service\, Jack will be honored for his time in the service with military honors under the direction of the United States Marine Corps. \n 
URL:https://rockfordsprings.org/event/jack-vansetters-funeral/
ATTACH;FMTTYPE=image/jpeg:https://rockfordsprings.org/wp-content/uploads/2020/12/jack-vansetters.jpg
END:VEVENT
BEGIN:VEVENT
DTSTART;VALUE=DATE:20200712
DTEND;VALUE=DATE:20200713
DTSTAMP:20260419T124545
CREATED:20200709T143407Z
LAST-MODIFIED:20200709T143407Z
UID:3232-1594512000-1594598399@rockfordsprings.org
SUMMARY:Sunday Morning Worship Service
DESCRIPTION:
URL:https://rockfordsprings.org/event/sunday-morning-worship-service-5/
CATEGORIES:Church Services
ATTACH;FMTTYPE=image/jpeg:https://rockfordsprings.org/wp-content/uploads/2020/04/Sunday-worship-service.jpeg
END:VEVENT
BEGIN:VEVENT
DTSTART;VALUE=DATE:20200628
DTEND;VALUE=DATE:20200629
DTSTAMP:20260419T124545
CREATED:20200622T174533Z
LAST-MODIFIED:20200622T174533Z
UID:3212-1593302400-1593388799@rockfordsprings.org
SUMMARY:Sunday Morning Worship Service
DESCRIPTION:
URL:https://rockfordsprings.org/event/sunday-morning-worship-service-4/
CATEGORIES:Church Services
ATTACH;FMTTYPE=image/jpeg:https://rockfordsprings.org/wp-content/uploads/2020/04/Sunday-worship-service.jpeg
END:VEVENT
BEGIN:VEVENT
DTSTART;VALUE=DATE:20200621
DTEND;VALUE=DATE:20200622
DTSTAMP:20260419T124545
CREATED:20200622T174458Z
LAST-MODIFIED:20200622T174458Z
UID:3210-1592697600-1592783999@rockfordsprings.org
SUMMARY:Sunday Morning Worship Service
DESCRIPTION:
URL:https://rockfordsprings.org/event/sunday-morning-worship-service-3/
CATEGORIES:Church Services
ATTACH;FMTTYPE=image/jpeg:https://rockfordsprings.org/wp-content/uploads/2020/04/Sunday-worship-service.jpeg
END:VEVENT
BEGIN:VEVENT
DTSTART;VALUE=DATE:20200607
DTEND;VALUE=DATE:20200608
DTSTAMP:20260419T124545
CREATED:20200608T172359Z
LAST-MODIFIED:20200608T172359Z
UID:3201-1591488000-1591574399@rockfordsprings.org
SUMMARY:Sunday\, June 7th Morning Worship Service
DESCRIPTION:Sunday\, June 7th Morning Worship Service
URL:https://rockfordsprings.org/event/sunday-june-7th-morning-worship-service/
CATEGORIES:Church Services
ATTACH;FMTTYPE=image/jpeg:https://rockfordsprings.org/wp-content/uploads/2020/04/Sunday-worship-service.jpeg
END:VEVENT
BEGIN:VEVENT
DTSTART;VALUE=DATE:20200607
DTEND;VALUE=DATE:20200608
DTSTAMP:20260419T124545
CREATED:20200422T192634Z
LAST-MODIFIED:20200608T172444Z
UID:3166-1591488000-1591574399@rockfordsprings.org
SUMMARY:Sunday Worship Service
DESCRIPTION:https://www.youtube.com/playlist?list=PLFkJABRlFVT7Vx_39SNYom-4jzBCyQLrz
URL:https://rockfordsprings.org/event/sunday-worship-service-2/
CATEGORIES:Church Services
ATTACH;FMTTYPE=image/jpeg:https://rockfordsprings.org/wp-content/uploads/2020/04/Sunday-worship-service.jpeg
END:VEVENT
BEGIN:VEVENT
DTSTART;VALUE=DATE:20200531
DTEND;VALUE=DATE:20200601
DTSTAMP:20260419T124545
CREATED:20200529T140344Z
LAST-MODIFIED:20200529T140344Z
UID:3192-1590883200-1590969599@rockfordsprings.org
SUMMARY:Sunday Morning Worship Service
DESCRIPTION:
URL:https://rockfordsprings.org/event/sunday-morning-worship-service-2/
CATEGORIES:Church Services
END:VEVENT
BEGIN:VEVENT
DTSTART;TZID=America/Detroit:20200524T093000
DTEND;TZID=America/Detroit:20200524T233000
DTSTAMP:20260419T124545
CREATED:20200519T171908Z
LAST-MODIFIED:20200519T171908Z
UID:3183-1590312600-1590363000@rockfordsprings.org
SUMMARY:Sunday Morning Worship Service
DESCRIPTION:
URL:https://rockfordsprings.org/event/sunday-morning-worship-service/
CATEGORIES:Church Services
ATTACH;FMTTYPE=image/jpeg:https://rockfordsprings.org/wp-content/uploads/2020/04/Sunday-worship-service.jpeg
END:VEVENT
BEGIN:VEVENT
DTSTART;TZID=America/Detroit:20200419T050000
DTEND;TZID=America/Detroit:20200419T233000
DTSTAMP:20260419T124545
CREATED:20200419T015818Z
LAST-MODIFIED:20200419T022811Z
UID:3161-1587272400-1587339000@rockfordsprings.org
SUMMARY:Sunday Worship Service
DESCRIPTION:Easter Sunday Sermon
URL:https://rockfordsprings.org/event/sunday-worship-service/
CATEGORIES:Church Services
ATTACH;FMTTYPE=image/jpeg:https://rockfordsprings.org/wp-content/uploads/2016/10/cross_SundayEveningWorship-scaled.jpg
END:VEVENT
BEGIN:VEVENT
DTSTART;TZID=America/Detroit:20200412T080000
DTEND;TZID=America/Detroit:20200412T230000
DTSTAMP:20260419T124545
CREATED:20200410T164755Z
LAST-MODIFIED:20200410T164755Z
UID:3151-1586678400-1586732400@rockfordsprings.org
SUMMARY:Easter Sunday Sermon
DESCRIPTION:https://www.youtube.com/playlist?list=PLFkJABRlFVT7seCIY2wrxQi8ZsF6jAyoE
URL:https://rockfordsprings.org/event/easter-sunday-sermon/
CATEGORIES:Church Services
END:VEVENT
BEGIN:VEVENT
DTSTART;TZID=America/Detroit:20200409T180000
DTEND;TZID=America/Detroit:20200409T220000
DTSTAMP:20260419T124545
CREATED:20200409T155515Z
LAST-MODIFIED:20200409T171959Z
UID:3140-1586455200-1586469600@rockfordsprings.org
SUMMARY:Maundy Thursday\, Tenebrae Service
DESCRIPTION:https://www.youtube.com/playlist?list=PLFkJABRlFVT7e-Kr3roGIMq4HTVnimeok \n  \n  \n 
URL:https://rockfordsprings.org/event/maundy-thursday-tenebrae-service/
CATEGORIES:Church Services
END:VEVENT
BEGIN:VEVENT
DTSTART;TZID=America/Detroit:20200405T080000
DTEND;TZID=America/Detroit:20200405T090000
DTSTAMP:20260419T124545
CREATED:20200408T164736Z
LAST-MODIFIED:20200408T164736Z
UID:3133-1586073600-1586077200@rockfordsprings.org
SUMMARY:Sunday\, April 5th Sermon
DESCRIPTION:https://www.youtube.com/watch?v=izOpSavip6o&list=PLFkJABRlFVT6ubpyeXmCKd1FiPPqp5sH3
URL:https://rockfordsprings.org/event/sunday-april-5th-sermon/
CATEGORIES:Church Services
END:VEVENT
BEGIN:VEVENT
DTSTART;TZID=America/Detroit:20200214T180000
DTEND;TZID=America/Detroit:20200214T210000
DTSTAMP:20260419T124545
CREATED:20200122T191637Z
LAST-MODIFIED:20200122T191852Z
UID:3098-1581703200-1581714000@rockfordsprings.org
SUMMARY:Valentine's Day Dinner
DESCRIPTION:Please plan to join us for the youth groups Annual Valentine’s Day Dinner Friday\, February 14th at 6:00pm. \nPlease contact the church office for more information 616.696.3656 or office@rockfordsprings.org \nRSVP’s must be turned in by Sunday\, February 9th
URL:https://rockfordsprings.org/event/valentines-day-dinner/
END:VEVENT
BEGIN:VEVENT
DTSTART;TZID=America/Detroit:20191211T180000
DTEND;TZID=America/Detroit:20191211T210000
DTSTAMP:20260419T124545
CREATED:20191114T180756Z
LAST-MODIFIED:20191129T220325Z
UID:3051-1576087200-1576098000@rockfordsprings.org
SUMMARY:Christmas Dinner
DESCRIPTION:Please plan to join us for our Christmas Dinner on Wednesday\, December 11th @ 6:00pm. \nPlease RSVP to the church office @ 616.696.3656 or office@rockfordsprings.org by Sunday\, December 8th
URL:https://rockfordsprings.org/event/thanksgiving-eve-service/
END:VEVENT
BEGIN:VEVENT
DTSTART;TZID=America/Detroit:20190904T173000
DTEND;TZID=America/Detroit:20190904T193000
DTSTAMP:20260419T124545
CREATED:20190819T141202Z
LAST-MODIFIED:20190819T141313Z
UID:3001-1567618200-1567625400@rockfordsprings.org
SUMMARY:Family Night
DESCRIPTION:Please plan to join us on Wednesday evenings\, Sept 4 through April 29\, for Family Night.  We offer catechism classes\, GEMS\, Cadets and Adult Bible Studies! \nWe begin at 5:30pm with pizza dinner ($3.00 per person). \nWe look forward to seeing you! \n  \nBrochure of Family Night 2019.2020
URL:https://rockfordsprings.org/event/family-night/
CATEGORIES:Adult Ministries,Student Ministries,Women's Ministry
END:VEVENT
BEGIN:VEVENT
DTSTART;TZID=America/Detroit:20190617T090000
DTEND;TZID=America/Detroit:20190620T120000
DTSTAMP:20260419T124545
CREATED:20190602T000038Z
LAST-MODIFIED:20190605T133925Z
UID:2953-1560762000-1561032000@rockfordsprings.org
SUMMARY:VBS 2019
DESCRIPTION:Get ready for a race filled with fun clues to find\, challenges to attempt\, and a global scavenger hunt like you’ve never seen! At the same time\, kids will learn about another race that started in the Garden of Eden. What race is that? The human race. \nAs we move around the world during our 2019 vacation bible school\, we’ll make pit stops before\, during\, and after the Tower of Babel\, showing kids how this event from the Bible matters today! \nPre-Registration forms are below. Please call the office with any questions 616.696.3656 \nPermission Form\, Photo Release Form\, Medical History and Waiver
URL:https://rockfordsprings.org/event/vbs-2019/
END:VEVENT
BEGIN:VEVENT
DTSTART;TZID=America/Detroit:20190427T093000
DTEND;TZID=America/Detroit:20190427T110000
DTSTAMP:20260419T124545
CREATED:20190313T142434Z
LAST-MODIFIED:20190313T142620Z
UID:2905-1556357400-1556362800@rockfordsprings.org
SUMMARY:Women's Ministry Annual Ladies Brunch
DESCRIPTION:RSCC’s Women’s Ministry invites you to join us for our Annual Ladies Brunch featuring guest speaker and vocalist Sarah Schieber.  Women and girls of all ages are welcome.\nSaturday\, April 27\, 2019 at 9:30am \nClick here to RSVP by April 17 or call our office at 616.696.3656. \nSarah Schieber has the ability to reach into the circumstances of her life and translate her experiences into deep encouragement for all.  Sarah has enjoyed a successful Christian radio career and has toured nationally and internationally equipping and encouraging through her music.  Today\, Sarah is poised to release her first book!  Using her gifting of poignant perception – her ability to look past the surface of her life and wrestle out her faith and the truth of who God is – Sarah is set to encourage in a whole new way!  Read more:  http://www.sarahschieber.com/ \n 
URL:https://rockfordsprings.org/event/annual-ladies-brunch/
LOCATION:Rockford Springs Community Church
ATTACH;FMTTYPE=image/png:https://rockfordsprings.org/wp-content/uploads/2019/03/FB-Event-Banner-2019.png
END:VEVENT
BEGIN:VEVENT
DTSTART;TZID=America/Detroit:20190421T093000
DTEND;TZID=America/Detroit:20190421T113000
DTSTAMP:20260419T124545
CREATED:20190411T155402Z
LAST-MODIFIED:20190411T155402Z
UID:2927-1555839000-1555846200@rockfordsprings.org
SUMMARY:Easter Service
DESCRIPTION:Please plan to join us on Sunday\, April 21st to celebrate the risen King.
URL:https://rockfordsprings.org/event/easter-service/
CATEGORIES:Church Services
END:VEVENT
BEGIN:VEVENT
DTSTART;TZID=America/Detroit:20190418T190000
DTEND;TZID=America/Detroit:20190418T200000
DTSTAMP:20260419T124545
CREATED:20190411T154535Z
LAST-MODIFIED:20190411T154535Z
UID:2925-1555614000-1555617600@rockfordsprings.org
SUMMARY:Maundy Thursday Service
DESCRIPTION:Please join us for this special service on Thursday\, April 18th @ 7pm.
URL:https://rockfordsprings.org/event/maundy-thursday-service-2/
CATEGORIES:Church Services
END:VEVENT
BEGIN:VEVENT
DTSTART;TZID=America/Detroit:20190322T173000
DTEND;TZID=America/Detroit:20190322T210000
DTSTAMP:20260419T124545
CREATED:20190228T155036Z
LAST-MODIFIED:20190228T155335Z
UID:2896-1553275800-1553288400@rockfordsprings.org
SUMMARY:GEMS Spaghetti Dinner and Family Night Pinewood Derby
DESCRIPTION:Please plan to join us Friday\, March 22 for the GEMS Annual Spaghetti Fundraiser Dinner and then plan to stay afterwards to watch the Cadets and GEMS race their Pinewood Derby Cars!! \nDinner starts at 5:30pm \nRaces start at 7:00pm \nWe look forward to seeing you!
URL:https://rockfordsprings.org/event/gems-spaghetti-dinner-and-family-night-pinewood-derby/
CATEGORIES:Student Ministries
END:VEVENT
BEGIN:VEVENT
DTSTART;TZID=America/Detroit:20181121T183000
DTEND;TZID=America/Detroit:20181121T193000
DTSTAMP:20260419T124545
CREATED:20181113T193742Z
LAST-MODIFIED:20181113T193742Z
UID:2831-1542825000-1542828600@rockfordsprings.org
SUMMARY:Thanksgiving Eve Prayer Service
DESCRIPTION:The Session at RSCC invites you to join us for an evening of prayer and giving Thanks to God for his many blessings. \nWe hope to see you Wednesday\, November 21 at 6:30pm.
URL:https://rockfordsprings.org/event/thanksgiving-eve-prayer-service/
CATEGORIES:Church Services
ATTACH;FMTTYPE=image/jpeg:https://rockfordsprings.org/wp-content/uploads/2018/11/thanksgiving-eve2-sm-620x250-1.jpg
END:VEVENT
BEGIN:VEVENT
DTSTART;TZID=America/Detroit:20180711T090000
DTEND;TZID=America/Detroit:20180713T140000
DTSTAMP:20260419T124545
CREATED:20180629T185423Z
LAST-MODIFIED:20180629T185423Z
UID:2726-1531299600-1531490400@rockfordsprings.org
SUMMARY:Garage Sale
DESCRIPTION:Wednesday\, July 11th 9am-6pm \nThursday\, July 12th 9am-6pm \nFriday\, July 13th 9am-2pm
URL:https://rockfordsprings.org/event/garage-sale/
LOCATION:Rockford Springs Community Church
ATTACH;FMTTYPE=image/jpeg:https://rockfordsprings.org/wp-content/uploads/2018/06/garage-sale4.jpg
ORGANIZER;CN="Church Office":MAILTO:office@rockfordsprings.org
END:VEVENT
BEGIN:VEVENT
DTSTART;TZID=America/Detroit:20180618T090000
DTEND;TZID=America/Detroit:20180621T120000
DTSTAMP:20260419T124545
CREATED:20180417T163602Z
LAST-MODIFIED:20180418T184107Z
UID:2690-1529312400-1529582400@rockfordsprings.org
SUMMARY:Vacation Bible School
DESCRIPTION:Wouldn’t it be amazing to travel back in time and witness epic events in history? Imagine the thrill of meeting great heroes of the faith like Abraham\, Moses\, or Gideon. Or the fun of experiencing life in ancient cultures like Rome. Or the fascination of watching famous inventors make discoveries that change the world. \nDISCOVERING JESUS FROM ETERNITY PAST TO ETERNITY FUTURE\nNow imagine traveling through time and meeting the most important man ever—a man who was not just a man\, but also God. One who turned the world upside-down. One who existed outside of time. \nWe’ll do just that as we embark on Time Lab. We’ll use words beginning with “C” to help us remember that Jesus\, our forever faithful\, loving\, caring\, promise-keeping Lord\, has been with us always! \nPlease plan to join us for VBS June 18-21\, 2018.  Sessions begin at 9am each day and end at noon. \nWe offer classes for ages 4 yrs old through 5th grade. \nPre-registration available. \nPlease contact the office at rockfordsprings.org or 616.696.3656 for more information.
URL:https://rockfordsprings.org/event/vacation-bible-school/
LOCATION:Rockford Springs Community Church
CATEGORIES:Student Ministries
ATTACH;FMTTYPE=image/jpeg:https://rockfordsprings.org/wp-content/uploads/2018/04/vbs-20182.jpg
END:VEVENT
BEGIN:VEVENT
DTSTART;TZID=America/Detroit:20180601T173000
DTEND;TZID=America/Detroit:20180601T193000
DTSTAMP:20260419T124545
CREATED:20180419T162643Z
LAST-MODIFIED:20180419T162643Z
UID:2697-1527874200-1527881400@rockfordsprings.org
SUMMARY:Car Hop
DESCRIPTION:CRUISE ON OVER!\nLoad up the family truck\, van & grocery getter with  your family\, friends & neighbors!  Join us for great food and fellowship while you check out some cool classic cars\, street rods\, and antique autos! \n  \nFREE WILL DONATIONS\nProceeds benefit RSCC Youth Group trip to the RYS  Convention in July. \nCar Hop 2018 \n  \n 
URL:https://rockfordsprings.org/event/car-hop/
LOCATION:Rockford Springs Community Church
ATTACH;FMTTYPE=image/jpeg:https://rockfordsprings.org/wp-content/uploads/2018/04/lets-go-to-the-car-hop.jpg
END:VEVENT
BEGIN:VEVENT
DTSTART;TZID=America/Detroit:20180323T173000
DTEND;TZID=America/Detroit:20180323T210000
DTSTAMP:20260419T124545
CREATED:20180220T192047Z
LAST-MODIFIED:20180220T192047Z
UID:2653-1521826200-1521838800@rockfordsprings.org
SUMMARY:Annual Spaghetti Dinner and Pinewood Derby
DESCRIPTION:Please join us on Friday\, March 23 @ 5:30pm for our GEMS annual spaghetti dinner fundraiser and then plan to stay for the Pinewood Derby races!
URL:https://rockfordsprings.org/event/annual-spaghetti-dinner-and-pinewood-derby/
LOCATION:Rockford Springs Community Church
END:VEVENT
BEGIN:VEVENT
DTSTART;TZID=America/Detroit:20180217T180000
DTEND;TZID=America/Detroit:20180217T220000
DTSTAMP:20260419T124545
CREATED:20180124T164336Z
LAST-MODIFIED:20180124T164336Z
UID:2641-1518890400-1518904800@rockfordsprings.org
SUMMARY:Valentine's Dinner
DESCRIPTION:The youth group of Rockford Springs Community Church cordially invites you to our Valentine Dinner on February 17th at 6:00pm.  We will be serving your choice of Prime Rib Roast or Seasoned Chicken on a Bed of Rice with a house salad\, bread\, green beans and roasted potatoes. Dessert:  Brownie Delight ala Mode.  Suggested donation of $20 per plate.  We hope you will join us for this wonderful evening of fine dining and fellowship. \nPlease RSVP to the church office\, 616.696.3656 or office@rockfordsprings.org\, by February 11th.
URL:https://rockfordsprings.org/event/valentines-dinner/
CATEGORIES:Adult Ministries
ATTACH;FMTTYPE=image/jpeg:https://rockfordsprings.org/wp-content/uploads/2017/01/Valentines-Day-Dinner.jpg
END:VEVENT
BEGIN:VEVENT
DTSTART;TZID=America/Detroit:20180127T080000
DTEND;TZID=America/Detroit:20180127T100000
DTSTAMP:20260419T124545
CREATED:20180103T173453Z
LAST-MODIFIED:20180103T173839Z
UID:2626-1517040000-1517047200@rockfordsprings.org
SUMMARY:Cadet Pancake Breakfast
DESCRIPTION:Please plan to join us on Saturday\, January 27th for the Cadets annual Pancake Breakfast fundraiser. \nFree will offering will be taken.
URL:https://rockfordsprings.org/event/cadet-pancake-breakfast-2/
END:VEVENT
BEGIN:VEVENT
DTSTART;TZID=America/Detroit:20171224T210000
DTEND;TZID=America/Detroit:20171224T220000
DTSTAMP:20260419T124545
CREATED:20171129T161311Z
LAST-MODIFIED:20171129T161311Z
UID:2608-1514149200-1514152800@rockfordsprings.org
SUMMARY:Christmas Eve Candlelight Service
DESCRIPTION:Please join us for our candlelight service on Sunday\, December 24th @ 9:00pm.
URL:https://rockfordsprings.org/event/christmas-eve-candlelight-service/
END:VEVENT
BEGIN:VEVENT
DTSTART;TZID=America/Detroit:20171213T180000
DTEND;TZID=America/Detroit:20171213T210000
DTSTAMP:20260419T124545
CREATED:20171129T160633Z
LAST-MODIFIED:20171129T161450Z
UID:2606-1513188000-1513198800@rockfordsprings.org
SUMMARY:RSCC's Annual Christmas Dinner
DESCRIPTION:Join us for food\, joyful fellowship and Christmas carols!  Invite your family\, friends and neighbors.  Please RSVP to the office @ 616.696.3656 or office@rockfordsprings.org by Sunday\, December 10. \nA free will offering will be taken to benefit the Alpha Women’s Center and the Mennesah Project. \nGlory to God in the highest\, and on earth peace among those with whom he is pleased.  Luke 2:14
URL:https://rockfordsprings.org/event/rsccs-annual-christmas-dinner/
END:VEVENT
BEGIN:VEVENT
DTSTART;VALUE=DATE:20170619
DTEND;VALUE=DATE:20170623
DTSTAMP:20260419T124545
CREATED:20170118T194457Z
LAST-MODIFIED:20170118T194940Z
UID:2341-1497830400-1498175999@rockfordsprings.org
SUMMARY:Vacation Bible School 2017
DESCRIPTION:Welcome to Operation Arctic! Every day\, our kids are bombarded with the message that the Bible isn’t the true Word of God\, that it can’t be trusted to tell us the truth about the past or\, more importantly\, about how we can receive the gift of eternal life. With the Operation Arctic VBS 2017 theme\, your kids will warm up to the Word as they explore the coolest Book on the planet and discover how we can know for sure that the Bible is God’s written word to us! \nVBS will kickoff Monday\, June 19\, 2017 and will conclude on Thursday\, June 22\, 2017.  Sessions will begin at 9:00am and end at Noon each day. \nVBS is available to children ages 4 years through 5th grade and 6th through 8th graders will participate in a daily service project from 9:00am – Noon. \nPlease contact the office for more information and to pre-register
URL:https://rockfordsprings.org/event/vacation-bible-school-2017/
LOCATION:Rockford Springs Community Church\, 5815 14 Mile Road\, Rockford\, MI\, 49341\, United States
CATEGORIES:Student Ministries
ATTACH;FMTTYPE=image/jpeg:https://rockfordsprings.org/wp-content/uploads/2016/03/vbs-2017.jpg
END:VEVENT
END:VCALENDAR