BEGIN:VCALENDAR
VERSION:2.0
PRODID:-//Rockford Springs Orthodox Presbyterian - ECPv6.15.20//NONSGML v1.0//EN
CALSCALE:GREGORIAN
METHOD:PUBLISH
X-WR-CALNAME:Rockford Springs Orthodox Presbyterian
X-ORIGINAL-URL:https://rockfordsprings.org
X-WR-CALDESC:Events for Rockford Springs Orthodox Presbyterian
REFRESH-INTERVAL;VALUE=DURATION:PT1H
X-Robots-Tag:noindex
X-PUBLISHED-TTL:PT1H
BEGIN:VTIMEZONE
TZID:America/Detroit
BEGIN:DAYLIGHT
TZOFFSETFROM:-0500
TZOFFSETTO:-0400
TZNAME:EDT
DTSTART:20150308T070000
END:DAYLIGHT
BEGIN:STANDARD
TZOFFSETFROM:-0400
TZOFFSETTO:-0500
TZNAME:EST
DTSTART:20151101T060000
END:STANDARD
BEGIN:DAYLIGHT
TZOFFSETFROM:-0500
TZOFFSETTO:-0400
TZNAME:EDT
DTSTART:20160313T070000
END:DAYLIGHT
BEGIN:STANDARD
TZOFFSETFROM:-0400
TZOFFSETTO:-0500
TZNAME:EST
DTSTART:20161106T060000
END:STANDARD
BEGIN:DAYLIGHT
TZOFFSETFROM:-0500
TZOFFSETTO:-0400
TZNAME:EDT
DTSTART:20170312T070000
END:DAYLIGHT
BEGIN:STANDARD
TZOFFSETFROM:-0400
TZOFFSETTO:-0500
TZNAME:EST
DTSTART:20171105T060000
END:STANDARD
BEGIN:DAYLIGHT
TZOFFSETFROM:-0500
TZOFFSETTO:-0400
TZNAME:EDT
DTSTART:20180311T070000
END:DAYLIGHT
BEGIN:STANDARD
TZOFFSETFROM:-0400
TZOFFSETTO:-0500
TZNAME:EST
DTSTART:20181104T060000
END:STANDARD
BEGIN:DAYLIGHT
TZOFFSETFROM:-0500
TZOFFSETTO:-0400
TZNAME:EDT
DTSTART:20190310T070000
END:DAYLIGHT
BEGIN:STANDARD
TZOFFSETFROM:-0400
TZOFFSETTO:-0500
TZNAME:EST
DTSTART:20191103T060000
END:STANDARD
BEGIN:DAYLIGHT
TZOFFSETFROM:-0500
TZOFFSETTO:-0400
TZNAME:EDT
DTSTART:20200308T070000
END:DAYLIGHT
BEGIN:STANDARD
TZOFFSETFROM:-0400
TZOFFSETTO:-0500
TZNAME:EST
DTSTART:20201101T060000
END:STANDARD
BEGIN:DAYLIGHT
TZOFFSETFROM:-0500
TZOFFSETTO:-0400
TZNAME:EDT
DTSTART:20210314T070000
END:DAYLIGHT
BEGIN:STANDARD
TZOFFSETFROM:-0400
TZOFFSETTO:-0500
TZNAME:EST
DTSTART:20211107T060000
END:STANDARD
END:VTIMEZONE
BEGIN:VEVENT
DTSTART;VALUE=DATE:20200712
DTEND;VALUE=DATE:20200713
DTSTAMP:20260421T052145
CREATED:20200709T143407Z
LAST-MODIFIED:20200709T143407Z
UID:3232-1594512000-1594598399@rockfordsprings.org
SUMMARY:Sunday Morning Worship Service
DESCRIPTION:
URL:https://rockfordsprings.org/event/sunday-morning-worship-service-5/
CATEGORIES:Church Services
ATTACH;FMTTYPE=image/jpeg:https://rockfordsprings.org/wp-content/uploads/2020/04/Sunday-worship-service.jpeg
END:VEVENT
BEGIN:VEVENT
DTSTART;VALUE=DATE:20200628
DTEND;VALUE=DATE:20200629
DTSTAMP:20260421T052145
CREATED:20200622T174533Z
LAST-MODIFIED:20200622T174533Z
UID:3212-1593302400-1593388799@rockfordsprings.org
SUMMARY:Sunday Morning Worship Service
DESCRIPTION:
URL:https://rockfordsprings.org/event/sunday-morning-worship-service-4/
CATEGORIES:Church Services
ATTACH;FMTTYPE=image/jpeg:https://rockfordsprings.org/wp-content/uploads/2020/04/Sunday-worship-service.jpeg
END:VEVENT
BEGIN:VEVENT
DTSTART;VALUE=DATE:20200621
DTEND;VALUE=DATE:20200622
DTSTAMP:20260421T052145
CREATED:20200622T174458Z
LAST-MODIFIED:20200622T174458Z
UID:3210-1592697600-1592783999@rockfordsprings.org
SUMMARY:Sunday Morning Worship Service
DESCRIPTION:
URL:https://rockfordsprings.org/event/sunday-morning-worship-service-3/
CATEGORIES:Church Services
ATTACH;FMTTYPE=image/jpeg:https://rockfordsprings.org/wp-content/uploads/2020/04/Sunday-worship-service.jpeg
END:VEVENT
BEGIN:VEVENT
DTSTART;VALUE=DATE:20200607
DTEND;VALUE=DATE:20200608
DTSTAMP:20260421T052145
CREATED:20200608T172359Z
LAST-MODIFIED:20200608T172359Z
UID:3201-1591488000-1591574399@rockfordsprings.org
SUMMARY:Sunday\, June 7th Morning Worship Service
DESCRIPTION:Sunday\, June 7th Morning Worship Service
URL:https://rockfordsprings.org/event/sunday-june-7th-morning-worship-service/
CATEGORIES:Church Services
ATTACH;FMTTYPE=image/jpeg:https://rockfordsprings.org/wp-content/uploads/2020/04/Sunday-worship-service.jpeg
END:VEVENT
BEGIN:VEVENT
DTSTART;VALUE=DATE:20200607
DTEND;VALUE=DATE:20200608
DTSTAMP:20260421T052145
CREATED:20200422T192634Z
LAST-MODIFIED:20200608T172444Z
UID:3166-1591488000-1591574399@rockfordsprings.org
SUMMARY:Sunday Worship Service
DESCRIPTION:https://www.youtube.com/playlist?list=PLFkJABRlFVT7Vx_39SNYom-4jzBCyQLrz
URL:https://rockfordsprings.org/event/sunday-worship-service-2/
CATEGORIES:Church Services
ATTACH;FMTTYPE=image/jpeg:https://rockfordsprings.org/wp-content/uploads/2020/04/Sunday-worship-service.jpeg
END:VEVENT
BEGIN:VEVENT
DTSTART;VALUE=DATE:20200531
DTEND;VALUE=DATE:20200601
DTSTAMP:20260421T052145
CREATED:20200529T140344Z
LAST-MODIFIED:20200529T140344Z
UID:3192-1590883200-1590969599@rockfordsprings.org
SUMMARY:Sunday Morning Worship Service
DESCRIPTION:
URL:https://rockfordsprings.org/event/sunday-morning-worship-service-2/
CATEGORIES:Church Services
END:VEVENT
BEGIN:VEVENT
DTSTART;TZID=America/Detroit:20200524T093000
DTEND;TZID=America/Detroit:20200524T233000
DTSTAMP:20260421T052145
CREATED:20200519T171908Z
LAST-MODIFIED:20200519T171908Z
UID:3183-1590312600-1590363000@rockfordsprings.org
SUMMARY:Sunday Morning Worship Service
DESCRIPTION:
URL:https://rockfordsprings.org/event/sunday-morning-worship-service/
CATEGORIES:Church Services
ATTACH;FMTTYPE=image/jpeg:https://rockfordsprings.org/wp-content/uploads/2020/04/Sunday-worship-service.jpeg
END:VEVENT
BEGIN:VEVENT
DTSTART;TZID=America/Detroit:20200419T050000
DTEND;TZID=America/Detroit:20200419T233000
DTSTAMP:20260421T052145
CREATED:20200419T015818Z
LAST-MODIFIED:20200419T022811Z
UID:3161-1587272400-1587339000@rockfordsprings.org
SUMMARY:Sunday Worship Service
DESCRIPTION:Easter Sunday Sermon
URL:https://rockfordsprings.org/event/sunday-worship-service/
CATEGORIES:Church Services
ATTACH;FMTTYPE=image/jpeg:https://rockfordsprings.org/wp-content/uploads/2016/10/cross_SundayEveningWorship-scaled.jpg
END:VEVENT
BEGIN:VEVENT
DTSTART;TZID=America/Detroit:20200412T080000
DTEND;TZID=America/Detroit:20200412T230000
DTSTAMP:20260421T052145
CREATED:20200410T164755Z
LAST-MODIFIED:20200410T164755Z
UID:3151-1586678400-1586732400@rockfordsprings.org
SUMMARY:Easter Sunday Sermon
DESCRIPTION:https://www.youtube.com/playlist?list=PLFkJABRlFVT7seCIY2wrxQi8ZsF6jAyoE
URL:https://rockfordsprings.org/event/easter-sunday-sermon/
CATEGORIES:Church Services
END:VEVENT
BEGIN:VEVENT
DTSTART;TZID=America/Detroit:20200409T180000
DTEND;TZID=America/Detroit:20200409T220000
DTSTAMP:20260421T052145
CREATED:20200409T155515Z
LAST-MODIFIED:20200409T171959Z
UID:3140-1586455200-1586469600@rockfordsprings.org
SUMMARY:Maundy Thursday\, Tenebrae Service
DESCRIPTION:https://www.youtube.com/playlist?list=PLFkJABRlFVT7e-Kr3roGIMq4HTVnimeok \n  \n  \n 
URL:https://rockfordsprings.org/event/maundy-thursday-tenebrae-service/
CATEGORIES:Church Services
END:VEVENT
BEGIN:VEVENT
DTSTART;TZID=America/Detroit:20200405T080000
DTEND;TZID=America/Detroit:20200405T090000
DTSTAMP:20260421T052145
CREATED:20200408T164736Z
LAST-MODIFIED:20200408T164736Z
UID:3133-1586073600-1586077200@rockfordsprings.org
SUMMARY:Sunday\, April 5th Sermon
DESCRIPTION:https://www.youtube.com/watch?v=izOpSavip6o&list=PLFkJABRlFVT6ubpyeXmCKd1FiPPqp5sH3
URL:https://rockfordsprings.org/event/sunday-april-5th-sermon/
CATEGORIES:Church Services
END:VEVENT
BEGIN:VEVENT
DTSTART;TZID=America/Detroit:20190421T093000
DTEND;TZID=America/Detroit:20190421T113000
DTSTAMP:20260421T052145
CREATED:20190411T155402Z
LAST-MODIFIED:20190411T155402Z
UID:2927-1555839000-1555846200@rockfordsprings.org
SUMMARY:Easter Service
DESCRIPTION:Please plan to join us on Sunday\, April 21st to celebrate the risen King.
URL:https://rockfordsprings.org/event/easter-service/
CATEGORIES:Church Services
END:VEVENT
BEGIN:VEVENT
DTSTART;TZID=America/Detroit:20190418T190000
DTEND;TZID=America/Detroit:20190418T200000
DTSTAMP:20260421T052145
CREATED:20190411T154535Z
LAST-MODIFIED:20190411T154535Z
UID:2925-1555614000-1555617600@rockfordsprings.org
SUMMARY:Maundy Thursday Service
DESCRIPTION:Please join us for this special service on Thursday\, April 18th @ 7pm.
URL:https://rockfordsprings.org/event/maundy-thursday-service-2/
CATEGORIES:Church Services
END:VEVENT
BEGIN:VEVENT
DTSTART;TZID=America/Detroit:20181121T183000
DTEND;TZID=America/Detroit:20181121T193000
DTSTAMP:20260421T052145
CREATED:20181113T193742Z
LAST-MODIFIED:20181113T193742Z
UID:2831-1542825000-1542828600@rockfordsprings.org
SUMMARY:Thanksgiving Eve Prayer Service
DESCRIPTION:The Session at RSCC invites you to join us for an evening of prayer and giving Thanks to God for his many blessings. \nWe hope to see you Wednesday\, November 21 at 6:30pm.
URL:https://rockfordsprings.org/event/thanksgiving-eve-prayer-service/
CATEGORIES:Church Services
ATTACH;FMTTYPE=image/jpeg:https://rockfordsprings.org/wp-content/uploads/2018/11/thanksgiving-eve2-sm-620x250-1.jpg
END:VEVENT
BEGIN:VEVENT
DTSTART;TZID=America/Detroit:20170416T093000
DTEND;TZID=America/Detroit:20170416T110000
DTSTAMP:20260421T052145
CREATED:20170324T143414Z
LAST-MODIFIED:20170324T151022Z
UID:2449-1492335000-1492340400@rockfordsprings.org
SUMMARY:Easter Sunday Service
DESCRIPTION:Please join us Sunday\, April 16 at 9:30am as we celebrate the resurrection!
URL:https://rockfordsprings.org/event/easter-sunday-service/
CATEGORIES:Church Services
END:VEVENT
BEGIN:VEVENT
DTSTART;TZID=America/Detroit:20170413T190000
DTEND;TZID=America/Detroit:20170413T210000
DTSTAMP:20260421T052145
CREATED:20170324T142501Z
LAST-MODIFIED:20170324T142604Z
UID:2446-1492110000-1492117200@rockfordsprings.org
SUMMARY:Maundy Thursday  Service
DESCRIPTION:We invite you to worship with us on Thursday\, April 13 at 7:00 pm as we remember his sacrifice.
URL:https://rockfordsprings.org/event/maundy-thursday-service/
CATEGORIES:Church Services
END:VEVENT
BEGIN:VEVENT
DTSTART;TZID=America/Detroit:20170412T173000
DTEND;TZID=America/Detroit:20170412T190000
DTSTAMP:20260421T052145
CREATED:20170324T141842Z
LAST-MODIFIED:20170324T141842Z
UID:2444-1492018200-1492023600@rockfordsprings.org
SUMMARY:Jews for Jesus
DESCRIPTION:Come for a journey through the Passover Meal and see how this Old Testament meal pointed to Jesus Christ.  Jews for Jesus will be with us on Wednesday night\, April 12.  This will bring some changes to our Wednesday night activities on this night.:\n*Pizza will still be served from 5:30 pm to 6 pm as normal.\n*Catechism\, GEMs\, and Cadets will not meet.\n*Kingdom Tots and Kingdom Kids will meet from 6 pm to 7 pm.\nThe Seder Meal will also take place during that time. Families will be asked to sit together and take of the elements of the meal as each is described.  Family Night will end at 7 pm on this night.  This is a special learning opportunity for all of us to witness and see Jesus afresh from the Old Testament.  We hope you plan to attend!! \n 
URL:https://rockfordsprings.org/event/jews-for-jesus/
CATEGORIES:Church Services
END:VEVENT
BEGIN:VEVENT
DTSTART;TZID=America/Detroit:20161030T093000
DTEND;TZID=America/Detroit:20161030T110000
DTSTAMP:20260421T052145
CREATED:20161009T212754Z
LAST-MODIFIED:20161009T214000Z
UID:1812-1477819800-1477825200@rockfordsprings.org
SUMMARY:Morning Worship
DESCRIPTION:Our regular Sunday morning worship\, in which we feature a mix of contemporary praise songs and traditional hymns\, begins at 9:30am. Pastor Vander Meer brings his messages each week directly from God’s Holy Word\, the Bible.  Come\, worship with us\, be encouraged\, and grow in your faith.
URL:https://rockfordsprings.org/event/morningworship-2-2/
LOCATION:Rockford Springs Community Church\, 5815 14 Mile Road\, Rockford\, MI\, 49341\, United States
CATEGORIES:Church Services
ATTACH;FMTTYPE=image/jpeg:https://rockfordsprings.org/wp-content/uploads/2016/10/cross-sunset_SundayWorshipServices.jpg
ORGANIZER;CN="Church Office":MAILTO:office@rockfordsprings.org
END:VEVENT
BEGIN:VEVENT
DTSTART;TZID=America/Detroit:20161023T093000
DTEND;TZID=America/Detroit:20161023T110000
DTSTAMP:20260421T052145
CREATED:20161009T212721Z
LAST-MODIFIED:20161009T214039Z
UID:1810-1477215000-1477220400@rockfordsprings.org
SUMMARY:Morning Worship
DESCRIPTION:Our regular Sunday morning worship\, in which we feature a mix of contemporary praise songs and traditional hymns\, begins at 9:30am. Pastor Vander Meer brings his messages each week directly from God’s Holy Word\, the Bible.  Come\, worship with us\, be encouraged\, and grow in your faith.
URL:https://rockfordsprings.org/event/morningworship-2/
LOCATION:Rockford Springs Community Church\, 5815 14 Mile Road\, Rockford\, MI\, 49341\, United States
CATEGORIES:Church Services
ATTACH;FMTTYPE=image/jpeg:https://rockfordsprings.org/wp-content/uploads/2016/10/cross-sunset_SundayWorshipServices.jpg
ORGANIZER;CN="Church Office":MAILTO:office@rockfordsprings.org
END:VEVENT
BEGIN:VEVENT
DTSTART;TZID=America/Detroit:20161016T093000
DTEND;TZID=America/Detroit:20161016T110000
DTSTAMP:20260421T052145
CREATED:20150512T132346Z
LAST-MODIFIED:20161009T213145Z
UID:202-1476610200-1476615600@rockfordsprings.org
SUMMARY:Morning Worship
DESCRIPTION:Our regular Sunday morning worship\, in which we feature a mix of contemporary praise songs and traditional hymns\, begins at 9:30am. Pastor Vander Meer brings his messages each week directly from God’s Holy Word\, the Bible.  Come\, worship with us\, be encouraged\, and grow in your faith.
URL:https://rockfordsprings.org/event/morningworship/
LOCATION:Rockford Springs Community Church\, 5815 14 Mile Road\, Rockford\, MI\, 49341\, United States
CATEGORIES:Church Services
ATTACH;FMTTYPE=image/jpeg:https://rockfordsprings.org/wp-content/uploads/2016/10/cross-sunset_SundayWorshipServices.jpg
ORGANIZER;CN="Church Office":MAILTO:office@rockfordsprings.org
END:VEVENT
END:VCALENDAR